BEGIN:VCALENDAR
VERSION:2.0
PRODID:-//Kansas City School of Music - ECPv6.15.20//NONSGML v1.0//EN
CALSCALE:GREGORIAN
METHOD:PUBLISH
X-ORIGINAL-URL:https://kansascityschoolofmusic.com
X-WR-CALDESC:Events for Kansas City School of Music
REFRESH-INTERVAL;VALUE=DURATION:PT1H
X-Robots-Tag:noindex
X-PUBLISHED-TTL:PT1H
BEGIN:VTIMEZONE
TZID:America/Chicago
BEGIN:DAYLIGHT
TZOFFSETFROM:-0600
TZOFFSETTO:-0500
TZNAME:CDT
DTSTART:20230312T080000
END:DAYLIGHT
BEGIN:STANDARD
TZOFFSETFROM:-0500
TZOFFSETTO:-0600
TZNAME:CST
DTSTART:20231105T070000
END:STANDARD
BEGIN:DAYLIGHT
TZOFFSETFROM:-0600
TZOFFSETTO:-0500
TZNAME:CDT
DTSTART:20240310T080000
END:DAYLIGHT
BEGIN:STANDARD
TZOFFSETFROM:-0500
TZOFFSETTO:-0600
TZNAME:CST
DTSTART:20241103T070000
END:STANDARD
BEGIN:DAYLIGHT
TZOFFSETFROM:-0600
TZOFFSETTO:-0500
TZNAME:CDT
DTSTART:20250309T080000
END:DAYLIGHT
BEGIN:STANDARD
TZOFFSETFROM:-0500
TZOFFSETTO:-0600
TZNAME:CST
DTSTART:20251102T070000
END:STANDARD
END:VTIMEZONE
BEGIN:VEVENT
DTSTART;TZID=America/Chicago:20241215T140000
DTEND;TZID=America/Chicago:20241215T144500
DTSTAMP:20260421T051856
CREATED:20230822T171736Z
LAST-MODIFIED:20240901T175622Z
UID:3571-1734271200-1734273900@kansascityschoolofmusic.com
SUMMARY:Christmas Recital
DESCRIPTION:Come hear the sounds of the holidays performed by the talented students of KCSM.
URL:https://kansascityschoolofmusic.com/calendar/christmas-recital-4/
LOCATION:Prince of Peace Catholic Church\, 16000 W 143rd Street\, Olathe\, KS\, 66062\, United States
END:VEVENT
BEGIN:VEVENT
DTSTART;TZID=America/Chicago:20241215T150000
DTEND;TZID=America/Chicago:20241215T154500
DTSTAMP:20260421T051856
CREATED:20221005T133836Z
LAST-MODIFIED:20240901T175949Z
UID:3454-1734274800-1734277500@kansascityschoolofmusic.com
SUMMARY:Christmas Recital
DESCRIPTION:Come hear the sounds of the holidays performed by the talented students of KCSM.
URL:https://kansascityschoolofmusic.com/calendar/december91245/
LOCATION:Prince of Peace Catholic Church\, 16000 W 143rd Street\, Olathe\, KS\, 66062\, United States
END:VEVENT
END:VCALENDAR